BEGIN:VCALENDAR
VERSION:2.0
PRODID:-//Taiko World - ECPv4.9.12//NONSGML v1.0//EN
CALSCALE:GREGORIAN
METHOD:PUBLISH
X-WR-CALNAME:Taiko World
X-ORIGINAL-URL:https://taiko.world
X-WR-CALDESC:Évènements pour Taiko World
BEGIN:VTIMEZONE
TZID:Europe/Paris
BEGIN:DAYLIGHT
TZOFFSETFROM:+0100
TZOFFSETTO:+0200
TZNAME:CEST
DTSTART:20180325T010000
END:DAYLIGHT
BEGIN:STANDARD
TZOFFSETFROM:+0200
TZOFFSETTO:+0100
TZNAME:CET
DTSTART:20181028T010000
END:STANDARD
END:VTIMEZONE
BEGIN:VEVENT
DTSTART;VALUE=DATE:20181116
DTEND;VALUE=DATE:20181119
DTSTAMP:20260425T124149
CREATED:20180424T125750Z
LAST-MODIFIED:20180424T134155Z
UID:626-1542326400-1542585599@taiko.world
SUMMARY:Wadaïko Tokara Workshop Belfort - Novembre 2018
DESCRIPTION:Les membres du groupe de wadaïko TOKARA\, menés par Art Lee\, seront à Belfort sur l’invitation de Kichigaï Taïko\, pour un stage intensif de trois jours ! Le nombre de participants est limité à 15\, alors pensez à vous inscrire rapidement en nous contactant par mail kichigaitaiko@yahoo.fr\nPlus de détails sur notre site : http://www.kichigai-taiko.com/tokara-workshop.html \n
URL:https://taiko.world/calendrier/wadaiko-tokara-workshop-belfort-2018/
LOCATION:Dojo Bartholdi\, Rue de Londres\, BELFORT\, 90000\, France
CATEGORIES:Stage,Taiko France
ORGANIZER;CN="Kichiga%C3%AF%20Ta%C3%AFko":MAILTO:kichigaitaiko@yahoo.fr 
END:VEVENT
END:VCALENDAR